BEGIN:VCALENDAR
VERSION:2.0
PRODID:-//RCCG Saint John – Pavilion of Redemption - ECPv6.9.1//NONSGML v1.0//EN
CALSCALE:GREGORIAN
METHOD:PUBLISH
X-WR-CALNAME:RCCG Saint John – Pavilion of Redemption
X-ORIGINAL-URL:https://rccgsj.org
X-WR-CALDESC:Events for RCCG Saint John – Pavilion of Redemption
REFRESH-INTERVAL;VALUE=DURATION:PT1H
X-Robots-Tag:noindex
X-PUBLISHED-TTL:PT1H
BEGIN:VTIMEZONE
TZID:UTC
BEGIN:STANDARD
TZOFFSETFROM:+0000
TZOFFSETTO:+0000
TZNAME:UTC
DTSTART:20250101T000000
END:STANDARD
END:VTIMEZONE
BEGIN:VEVENT
DTSTART;TZID=UTC:20250404T080000
DTEND;TZID=UTC:20250406T170000
DTSTAMP:20260421T234004
CREATED:20250213T131524Z
LAST-MODIFIED:20250227T223210Z
UID:1953-1743753600-1743958800@rccgsj.org
SUMMARY:Women's Conference
DESCRIPTION:We are delighted to invite you to our 2025 Women’s Conference—a powerful gathering of women coming together to be inspired\, equipped\, and empowered to walk boldly in their God-given purpose. This two-day event will be a time of worship\, teaching\, fellowship\, and personal transformation as we grow deeper in faith and embrace our divine calling. \nWhat to Expect: \n✅ Spirit-Filled Worship & Teaching\n✅ Inspiring Messages from Anointed Speakers\n✅ Interactive Sessions on Faith\, Family & Purpose\n✅ Testimonies\, Panel Discussions & Prayer Sessions\n✅ Opportunities for Connection & Fellowship \nWhether you are a young woman\, a mother\, a professional\, or a ministry leader\, this conference is designed to refresh your spirit\, strengthen your faith\, and equip you to thrive in every area of life. \nCome expectant\, bring a friend\, and let’s grow together in faith\, wisdom\, and purpose! \nFor more details and registration\, please contact [Insert Contact Information]. \nWe can’t wait to welcome you!
URL:https://rccgsj.org/event/womens-conference/
END:VEVENT
BEGIN:VEVENT
DTSTART;TZID=UTC:20250418T080000
DTEND;TZID=UTC:20250419T170000
DTSTAMP:20260421T234004
CREATED:20250213T133433Z
LAST-MODIFIED:20250213T133433Z
UID:1955-1744963200-1745082000@rccgsj.org
SUMMARY:Couples’ Retreat 2025
DESCRIPTION:Marriage comes with its joys\, challenges\, and defining moments—but in every season\, God’s design is for love\, strength\, and victory. We invite you and your spouse to a special Couples’ Retreat tagged “To Quit or to Triumph”\, a life-enriching experience designed to renew your commitment\, strengthen your bond\, and equip you with biblical wisdom for a thriving marriage. \nWhat to Expect: \n✅ Engaging Sessions on Conflict Resolution & Communication\n✅ Biblical Insights on Strengthening Your Marriage\n✅ Heart-to-Heart Couples’ Discussions & Testimonies\n✅ Romantic & Fun Activities to Reignite Your Connection\n✅ Prayer\, Healing & Renewal for Marriages \nWhether you are newly married\, in the middle of challenges\, or looking to deepen your connection\, this retreat will provide practical tools\, spiritual encouragement\, and a refreshing atmosphere to help you navigate marriage God’s way. \nTake this time to step away from daily distractions\, invest in your marriage\, and choose TRIUMPH over challenges! \nLimited slots available – register now! \nWe look forward to seeing you there!
URL:https://rccgsj.org/event/couples-retreat-2025/
END:VEVENT
BEGIN:VEVENT
DTSTART;VALUE=DATE:20251225
DTEND;VALUE=DATE:20251226
DTSTAMP:20260421T234004
CREATED:20250204T140014Z
LAST-MODIFIED:20250204T140140Z
UID:1288-1766620800-1766707199@rccgsj.org
SUMMARY:Christmas
DESCRIPTION:
URL:https://rccgsj.org/event/christmas/
END:VEVENT
END:VCALENDAR