BEGIN:VCALENDAR
VERSION:2.0
PRODID:-//RCCG Saint John – Pavilion of Redemption - ECPv6.9.1//NONSGML v1.0//EN
CALSCALE:GREGORIAN
METHOD:PUBLISH
X-WR-CALNAME:RCCG Saint John – Pavilion of Redemption
X-ORIGINAL-URL:https://rccgsj.org
X-WR-CALDESC:Events for RCCG Saint John – Pavilion of Redemption
REFRESH-INTERVAL;VALUE=DURATION:PT1H
X-Robots-Tag:noindex
X-PUBLISHED-TTL:PT1H
BEGIN:VTIMEZONE
TZID:UTC
BEGIN:STANDARD
TZOFFSETFROM:+0000
TZOFFSETTO:+0000
TZNAME:UTC
DTSTART:20250101T000000
END:STANDARD
END:VTIMEZONE
BEGIN:VEVENT
DTSTART;TZID=UTC:20250221T180000
DTEND;TZID=UTC:20250221T200000
DTSTAMP:20260422T011211
CREATED:20250213T123424Z
LAST-MODIFIED:20250213T123424Z
UID:1947-1740160800-1740168000@rccgsj.org
SUMMARY:You & Your Health - House Fellowship
DESCRIPTION:We warmly invite you to a special House Fellowship event tagged “You and Your Health”\, where we will explore the connection between faith\, wellness\, and holistic well-being. This will be an engaging and insightful time as we discuss how spiritual\, physical\, and emotional health align with God’s purpose for our lives. \nWhat to Expect: \n✅ Biblical Insights on Health & Wellness\n✅ Practical Tips for a Healthier Lifestyle\n✅ Interactive Discussions & Q&A\n✅ Fellowship\, Encouragement & Prayer \nGod cares about every aspect of our well-being\, and together\, we’ll learn how to honor Him with our bodies\, minds\, and spirits. Come ready to connect\, learn\, and grow in a welcoming and uplifting environment! \nBring a friend\, and let’s enjoy this time of fellowship\, learning\, and encouragement together. \nWe look forward to seeing you there
URL:https://rccgsj.org/event/you-your-health-house-fellowship/
END:VEVENT
END:VCALENDAR