BEGIN:VCALENDAR
VERSION:2.0
PRODID:-//RCCG Saint John – Pavilion of Redemption - ECPv6.9.1//NONSGML v1.0//EN
CALSCALE:GREGORIAN
METHOD:PUBLISH
X-ORIGINAL-URL:https://rccgsj.org
X-WR-CALDESC:Events for RCCG Saint John – Pavilion of Redemption
REFRESH-INTERVAL;VALUE=DURATION:PT1H
X-Robots-Tag:noindex
X-PUBLISHED-TTL:PT1H
BEGIN:VTIMEZONE
TZID:UTC
BEGIN:STANDARD
TZOFFSETFROM:+0000
TZOFFSETTO:+0000
TZNAME:UTC
DTSTART:20250101T000000
END:STANDARD
END:VTIMEZONE
BEGIN:VEVENT
DTSTART;TZID=UTC:20250216T100000
DTEND;TZID=UTC:20250216T123000
DTSTAMP:20260422T011420
CREATED:20250213T122516Z
LAST-MODIFIED:20250213T122517Z
UID:1945-1739700000-1739709000@rccgsj.org
SUMMARY:Young Adults Sunday
DESCRIPTION:We are excited to invite you to Young Adults Sunday—a special gathering dedicated to empowering\, equipping\, and celebrating young adults in our community. This will be a time of inspiring worship\, powerful teaching\, and meaningful fellowship as we come together to grow in faith\, build connections\, and step boldly into our God-given purpose. \nWhat to Expect: \n✅ Uplifting Worship & Praise\n✅ Encouraging Message on Faith & Purpose\n✅ Young Adults Leading in Ministry\n✅ Opportunities to Connect & Grow \nThis is more than just a service—it’s a time to be refreshed\, be inspired\, and be part of a movement of young adults committed to living for Christ. Whether you’re new or have been part of the fellowship for a while\, we’d love to have you with us! \nCome expectant\, bring a friend\, and let’s make this Young Adults Sunday an unforgettable experience! \nIf you have any questions or need more details\, feel free to reach out to [Insert Contact Information]. \nWe can’t wait to see you there!
URL:https://rccgsj.org/event/young-adults-sunday/
END:VEVENT
END:VCALENDAR